BEGIN:VCALENDAR
VERSION:2.0
PRODID:-//Brahmo PTTI - ECPv5.3.0//NONSGML v1.0//EN
CALSCALE:GREGORIAN
METHOD:PUBLISH
X-WR-CALNAME:Brahmo PTTI
X-ORIGINAL-URL:https://brahmo.wbptti.in
X-WR-CALDESC:Events for Brahmo PTTI
BEGIN:VTIMEZONE
TZID:UTC
BEGIN:STANDARD
TZOFFSETFROM:+0000
TZOFFSETTO:+0000
TZNAME:UTC
DTSTART:20190101T000000
END:STANDARD
END:VTIMEZONE
BEGIN:VEVENT
DTSTART;TZID=UTC:20190523T110200
DTEND;TZID=UTC:20190523T170000
DTSTAMP:20260424T035444
CREATED:20170208T124226Z
LAST-MODIFIED:20190315T124128Z
UID:197-1558609320-1558630800@brahmo.wbptti.in
SUMMARY:Advice: The future of Startups without Support
DESCRIPTION:The Ed School District is in compliance with the U.S. Civil Rights Act of 1964 and the Title IX Educational Amendments of 1972\, Part 86. The School District provides equal employment and educational opportunities to all individuals without regard to race\, color\, creed\, religion\, national origin\, political affiliation\, sex\, sexual orientation\, age\, marital status\, veteran status or disability.
URL:https://brahmo.wbptti.in/event/advice-the-future-of-startups-without-support/
LOCATION:Header Alt
CATEGORIES:School
END:VEVENT
END:VCALENDAR