BEGIN:VCALENDAR
VERSION:2.0
PRODID:-//Brahmo PTTI - ECPv5.3.0//NONSGML v1.0//EN
CALSCALE:GREGORIAN
METHOD:PUBLISH
X-WR-CALNAME:Brahmo PTTI
X-ORIGINAL-URL:https://brahmo.wbptti.in
X-WR-CALDESC:Events for Brahmo PTTI
BEGIN:VTIMEZONE
TZID:UTC
BEGIN:STANDARD
TZOFFSETFROM:+0000
TZOFFSETTO:+0000
TZNAME:UTC
DTSTART:20190101T000000
END:STANDARD
END:VTIMEZONE
BEGIN:VEVENT
DTSTART;TZID=UTC:20190630T110200
DTEND;TZID=UTC:20190630T170000
DTSTAMP:20260423T225557
CREATED:20190104T124108Z
LAST-MODIFIED:20190315T123741Z
UID:198-1561892520-1561914000@brahmo.wbptti.in
SUMMARY:Midnapore Govt. Primary Teachers' Training Institute celebrates 97th Ceremony
DESCRIPTION:The Ed School District is in compliance with the U.S. Civil Rights Act of 1964 and the Title IX Educational Amendments of 1972\, Part 86. The School District provides equal employment and educational opportunities to all individuals without regard to race\, color\, creed\, religion\, national origin\, political affiliation\, sex\, sexual orientation\, age\, marital status\, veteran status or disability.
URL:https://brahmo.wbptti.in/event/midnapore-govt-primary-teachers-training-institute/
CATEGORIES:School
END:VEVENT
END:VCALENDAR